BEGIN:VCALENDAR
VERSION:2.0
CALSCALE:GREGORIAN
PRODID:-//WordPress//RSVPMaker//EN
METHOD:REQUEST
BEGIN:VEVENT
DTSTAMP:20260423T133156Z
UID:B47767F992CE8624345ACA182B76B202@rsvpmaker.com
SEQUENCE:0
STATUS:CONFIRMED
DTSTART:20260425T213000Z
DTEND:20260425T223000Z
LOCATION:See\: https\://www.thehabitathouseconcerts.com/rsvpmaker/kell
 y-mcguire-2026/
SUMMARY:Kelly McGuire 2026 to be rescheduled.  our next show is May 9t
 h and we hope to see you there!
DESCRIPTION:Event info\: https\://www.thehabitathouseconcerts.com/rsvp
 maker/kelly-mcguire-2026/
END:VEVENT
END:VCALENDAR