BEGIN:VCALENDAR
VERSION:2.0
CALSCALE:GREGORIAN
PRODID:-//WordPress//RSVPMaker//EN
METHOD:REQUEST
BEGIN:VEVENT
DTSTAMP:20260423T183151Z
UID:310366DD6F1A67639B870EFE6CA3613D@rsvpmaker.com
SEQUENCE:0
STATUS:CONFIRMED
DTSTART:20250111T223000Z
DTEND:20250112T030000Z
LOCATION:See\: https\://www.thehabitathouseconcerts.com/rsvpmaker/kitt
 y-steadman-2025/
SUMMARY:Kitty Steadman 2025
DESCRIPTION:Event info\: https\://www.thehabitathouseconcerts.com/rsvp
 maker/kitty-steadman-2025/
END:VEVENT
END:VCALENDAR