BEGIN:VCALENDAR
VERSION:2.0
CALSCALE:GREGORIAN
PRODID:-//WordPress//RSVPMaker//EN
METHOD:REQUEST
BEGIN:VEVENT
DTSTAMP:20260423T145444Z
UID:E9A53D0ED1816293EF24647C7B33D819@rsvpmaker.com
SEQUENCE:0
STATUS:CONFIRMED
DTSTART:20260110T223000Z
DTEND:20260111T030000Z
LOCATION:See\: https\://www.thehabitathouseconcerts.com/rsvpmaker/kitt
 y-steadman-2026/
SUMMARY:Kitty Steadman 2026
DESCRIPTION:Event info\: https\://www.thehabitathouseconcerts.com/rsvp
 maker/kitty-steadman-2026/
END:VEVENT
END:VCALENDAR