BEGIN:VCALENDAR
VERSION:2.0
CALSCALE:GREGORIAN
PRODID:-//WordPress//RSVPMaker//EN
METHOD:REQUEST
BEGIN:VEVENT
DTSTAMP:20260423T195016Z
UID:5446F217E9504BC593AD9DCF2EC88DDA@rsvpmaker.com
SEQUENCE:0
STATUS:CONFIRMED
DTSTART:20240420T213000Z
DTEND:20240421T020000Z
LOCATION:See\: https\://www.thehabitathouseconcerts.com/rsvpmaker/live
 -album-recording-cory-young-at-the-habitat/
SUMMARY:LIVE ALBUM RECORDING - Cory Young at The Habitat
DESCRIPTION:Event info\: https\://www.thehabitathouseconcerts.com/rsvp
 maker/live-album-recording-cory-young-at-the-habitat/
END:VEVENT
END:VCALENDAR