BEGIN:VCALENDAR
VERSION:2.0
CALSCALE:GREGORIAN
PRODID:-//WordPress//RSVPMaker//EN
METHOD:REQUEST
BEGIN:VEVENT
DTSTAMP:20260423T210956Z
UID:6A13382A520E0420014027350A0B3EB4@rsvpmaker.com
SEQUENCE:0
STATUS:CONFIRMED
DTSTART:20240505T173000Z
DTEND:20240505T183000Z
LOCATION:See\: https\://www.thehabitathouseconcerts.com/rsvpmaker/mick
 -fury-at-the-habitat/
SUMMARY:Mick Fury at The Habitat
DESCRIPTION:Event info\: https\://www.thehabitathouseconcerts.com/rsvp
 maker/mick-fury-at-the-habitat/
END:VEVENT
END:VCALENDAR