BEGIN:VCALENDAR
VERSION:2.0
CALSCALE:GREGORIAN
PRODID:-//WordPress//RSVPMaker//EN
METHOD:REQUEST
BEGIN:VEVENT
DTSTAMP:20260423T183233Z
UID:B14573B9273C38BA0F89BB63ABC87973@rsvpmaker.com
SEQUENCE:0
STATUS:CONFIRMED
DTSTART:20241228T223000Z
DTEND:20241228T233000Z
LOCATION:See\: https\://www.thehabitathouseconcerts.com/rsvpmaker/mike
 -nash-at-the-habitat-2024/
SUMMARY:Mike Nash at The Habitat 2024
DESCRIPTION:Event info\: https\://www.thehabitathouseconcerts.com/rsvp
 maker/mike-nash-at-the-habitat-2024/
END:VEVENT
END:VCALENDAR