BEGIN:VCALENDAR
VERSION:2.0
CALSCALE:GREGORIAN
PRODID:-//WordPress//RSVPMaker//EN
METHOD:REQUEST
BEGIN:VEVENT
DTSTAMP:20260423T181627Z
UID:32BBF7B2BC4ED14EB1E9C2580056A989@rsvpmaker.com
SEQUENCE:0
STATUS:CONFIRMED
DTSTART:20250913T213000Z
DTEND:20250913T223000Z
LOCATION:See\: https\://www.thehabitathouseconcerts.com/rsvpmaker/mike
 -nash-live-at-the-habitat-2025/
SUMMARY:Mike Nash Live at The Habitat - 2025
DESCRIPTION:Event info\: https\://www.thehabitathouseconcerts.com/rsvp
 maker/mike-nash-live-at-the-habitat-2025/
END:VEVENT
END:VCALENDAR