BEGIN:VCALENDAR
VERSION:2.0
CALSCALE:GREGORIAN
PRODID:-//WordPress//RSVPMaker//EN
METHOD:REQUEST
BEGIN:VEVENT
DTSTAMP:20260424T011321Z
UID:3D3D286A8D153A4A58156D0E02D8570C@rsvpmaker.com
SEQUENCE:0
STATUS:CONFIRMED
DTSTART:20220219T223000Z
DTEND:20220219T233000Z
LOCATION:See\: https\://www.thehabitathouseconcerts.com/rsvpmaker/mike
 -nash-returns-to-the-habitat/
SUMMARY:Mike Nash Returns to The Habitat
DESCRIPTION:Event info\: https\://www.thehabitathouseconcerts.com/rsvp
 maker/mike-nash-returns-to-the-habitat/
END:VEVENT
END:VCALENDAR