BEGIN:VCALENDAR
VERSION:2.0
CALSCALE:GREGORIAN
PRODID:-//WordPress//RSVPMaker//EN
METHOD:REQUEST
BEGIN:VEVENT
DTSTAMP:20260423T210956Z
UID:ADF854F418FC96FB01AD92A2ED2FC35C@rsvpmaker.com
SEQUENCE:0
STATUS:CONFIRMED
DTSTART:20240106T223000Z
DTEND:20240106T233000Z
LOCATION:See\: https\://www.thehabitathouseconcerts.com/rsvpmaker/mike
 nash-at-the-habitat-2024/
SUMMARY:Mike Nash at The Habitat
DESCRIPTION:Event info\: https\://www.thehabitathouseconcerts.com/rsvp
 maker/mikenash-at-the-habitat-2024/
END:VEVENT
END:VCALENDAR