BEGIN:VCALENDAR
VERSION:2.0
CALSCALE:GREGORIAN
PRODID:-//WordPress//RSVPMaker//EN
METHOD:REQUEST
BEGIN:VEVENT
DTSTAMP:20260423T210746Z
UID:EDB446B67D69ADBFE9A21068982000C2@rsvpmaker.com
SEQUENCE:0
STATUS:CONFIRMED
DTSTART:20231119T203000Z
DTEND:20231119T213000Z
LOCATION:See\: https\://www.thehabitathouseconcerts.com/rsvpmaker/mish
 ka19nov2023/
SUMMARY:An Afternoon with Mishka - Sunday Nov19 4PM
DESCRIPTION:Event info\: https\://www.thehabitathouseconcerts.com/rsvp
 maker/mishka19nov2023/
END:VEVENT
END:VCALENDAR