BEGIN:VCALENDAR
VERSION:2.0
CALSCALE:GREGORIAN
PRODID:-//WordPress//RSVPMaker//EN
METHOD:REQUEST
BEGIN:VEVENT
DTSTAMP:20260423T170058Z
UID:4DE1ED74128A96A8B5900186486AACBA@rsvpmaker.com
SEQUENCE:0
STATUS:CONFIRMED
DTSTART:20250906T213000Z
DTEND:20250907T020000Z
LOCATION:See\: https\://www.thehabitathouseconcerts.com/rsvpmaker/mish
 ka_6sept2025/
SUMMARY:Postponed...  Mishka Returns to The Habitat
DESCRIPTION:Event info\: https\://www.thehabitathouseconcerts.com/rsvp
 maker/mishka_6sept2025/
END:VEVENT
END:VCALENDAR