BEGIN:VCALENDAR
VERSION:2.0
CALSCALE:GREGORIAN
PRODID:-//WordPress//RSVPMaker//EN
METHOD:REQUEST
BEGIN:VEVENT
DTSTAMP:20260424T023358Z
UID:70F250E2D762FBDE8A2E70EABF6EB953@rsvpmaker.com
SEQUENCE:0
STATUS:CONFIRMED
DTSTART:20210523T220000Z
DTEND:20210523T230000Z
LOCATION:See\: https\://www.thehabitathouseconcerts.com/rsvpmaker/pete
 r-and-brendan-mayer-at-the-habitat/
SUMMARY:Peter and Brendan Mayer at The Habitat!
DESCRIPTION:Event info\: https\://www.thehabitathouseconcerts.com/rsvp
 maker/peter-and-brendan-mayer-at-the-habitat/
END:VEVENT
END:VCALENDAR