BEGIN:VCALENDAR
VERSION:2.0
CALSCALE:GREGORIAN
PRODID:-//WordPress//RSVPMaker//EN
METHOD:REQUEST
BEGIN:VEVENT
DTSTAMP:20260423T183309Z
UID:828B1EB30921659E22E53A9EDC92C4C4@rsvpmaker.com
SEQUENCE:0
STATUS:CONFIRMED
DTSTART:20241004T213000Z
DTEND:20241005T013000Z
LOCATION:See\: https\://www.thehabitathouseconcerts.com/rsvpmaker/pete
 r-mayer-at-the-habitat-2024/
SUMMARY:Peter and Brendan Mayer at The Habitat 2024
DESCRIPTION:Event info\: https\://www.thehabitathouseconcerts.com/rsvp
 maker/peter-mayer-at-the-habitat-2024/
END:VEVENT
END:VCALENDAR