BEGIN:VCALENDAR
VERSION:2.0
CALSCALE:GREGORIAN
PRODID:-//WordPress//RSVPMaker//EN
METHOD:REQUEST
BEGIN:VEVENT
DTSTAMP:20260424T040107Z
UID:8CBE9CE23F42628C98F80FA0FAC8B19A@rsvpmaker.com
SEQUENCE:0
STATUS:CONFIRMED
DTSTART:20210213T223000Z
DTEND:20210213T233000Z
LOCATION:See\: https\://www.thehabitathouseconcerts.com/rsvpmaker/regg
 ie-starrett-at-the-habitat-old/
SUMMARY:Barefoot Reggie Starrett
DESCRIPTION:Event info\: https\://www.thehabitathouseconcerts.com/rsvp
 maker/reggie-starrett-at-the-habitat-old/
END:VEVENT
END:VCALENDAR