BEGIN:VCALENDAR
VERSION:2.0
CALSCALE:GREGORIAN
PRODID:-//WordPress//RSVPMaker//EN
METHOD:REQUEST
BEGIN:VEVENT
DTSTAMP:20260424T024416Z
UID:2A10665525774FA2501C2C8C4985CE61@rsvpmaker.com
SEQUENCE:0
STATUS:CONFIRMED
DTSTART:20211023T213000Z
DTEND:20211023T223000Z
LOCATION:See\: https\://www.thehabitathouseconcerts.com/rsvpmaker/regg
 ie-starrett-at-the-habitat/
SUMMARY:Reggie Starrett at The Habitat
DESCRIPTION:Event info\: https\://www.thehabitathouseconcerts.com/rsvp
 maker/reggie-starrett-at-the-habitat/
END:VEVENT
END:VCALENDAR