BEGIN:VCALENDAR
VERSION:2.0
CALSCALE:GREGORIAN
PRODID:-//WordPress//RSVPMaker//EN
METHOD:REQUEST
BEGIN:VEVENT
DTSTAMP:20260423T235611Z
UID:56C3B2C6EA3A83AAEEFF35EEB45D700D@rsvpmaker.com
SEQUENCE:0
STATUS:CONFIRMED
DTSTART:20231231T223000Z
DTEND:20231231T233000Z
LOCATION:See\: https\://www.thehabitathouseconcerts.com/rsvpmaker/rsvp
 -links-pending/
SUMMARY:RSVP links pending
DESCRIPTION:Event info\: https\://www.thehabitathouseconcerts.com/rsvp
 maker/rsvp-links-pending/
END:VEVENT
END:VCALENDAR