BEGIN:VCALENDAR
VERSION:2.0
CALSCALE:GREGORIAN
PRODID:-//WordPress//RSVPMaker//EN
METHOD:REQUEST
BEGIN:VEVENT
DTSTAMP:20260424T023204Z
UID:351869BDE8B9D6AD1E3090BD173F600D@rsvpmaker.com
SEQUENCE:0
STATUS:CONFIRMED
DTSTART:20210410T213000Z
DTEND:20210410T223000Z
LOCATION:See\: https\://www.thehabitathouseconcerts.com/rsvpmaker/scot
 t-kirby-at-the-habitat/
SUMMARY:Scott Kirby at The Habitat
DESCRIPTION:Event info\: https\://www.thehabitathouseconcerts.com/rsvp
 maker/scott-kirby-at-the-habitat/
END:VEVENT
END:VCALENDAR