BEGIN:VCALENDAR
VERSION:2.0
CALSCALE:GREGORIAN
PRODID:-//WordPress//RSVPMaker//EN
METHOD:REQUEST
BEGIN:VEVENT
DTSTAMP:20260424T000005Z
UID:D47619B92CEBC6EBFA07969AB5370AE6@rsvpmaker.com
SEQUENCE:0
STATUS:CONFIRMED
DTSTART:20220415T213000Z
DTEND:20220415T223000Z
LOCATION:See\: https\://www.thehabitathouseconcerts.com/rsvpmaker/scot
 t-kirby-with-lew-london-at-the-habitat/
SUMMARY:Scott Kirby with Lew London at The Habitat
DESCRIPTION:Event info\: https\://www.thehabitathouseconcerts.com/rsvp
 maker/scott-kirby-with-lew-london-at-the-habitat/
END:VEVENT
END:VCALENDAR