BEGIN:VCALENDAR
VERSION:2.0
CALSCALE:GREGORIAN
PRODID:-//WordPress//RSVPMaker//EN
METHOD:REQUEST
BEGIN:VEVENT
DTSTAMP:20260423T211031Z
UID:DD409260AEA46A90E61B9A69FB9726EF@rsvpmaker.com
SEQUENCE:0
STATUS:CONFIRMED
DTSTART:20240306T223000Z
DTEND:20240306T233000Z
LOCATION:See\: https\://www.thehabitathouseconcerts.com/rsvpmaker/stee
 l-city-rovers-pop-up-concert/
SUMMARY:Steel City Rovers - Pop Up Concert
DESCRIPTION:Event info\: https\://www.thehabitathouseconcerts.com/rsvp
 maker/steel-city-rovers-pop-up-concert/
END:VEVENT
END:VCALENDAR