BEGIN:VCALENDAR
VERSION:2.0
CALSCALE:GREGORIAN
PRODID:-//WordPress//RSVPMaker//EN
METHOD:REQUEST
BEGIN:VEVENT
DTSTAMP:20260424T000052Z
UID:E92E1B476BB5262D793FD40931E0ED53@rsvpmaker.com
SEQUENCE:0
STATUS:CONFIRMED
DTSTART:20220604T213000Z
DTEND:20220604T223000Z
LOCATION:See\: https\://www.thehabitathouseconcerts.com/rsvpmaker/summ
 er-songwriters-sessions-hosted-by-darrell-clanton-featuring-aubrey-wol
 lett-and-bryton-stoll/
SUMMARY:CANCELLED - SORRY!!!  Summer Songwriters Sessions - Hosted by 
 Darrell Clanton, Featuring Aubrey Wollett and Bryton Stoll
DESCRIPTION:Event info\: https\://www.thehabitathouseconcerts.com/rsvp
 maker/summer-songwriters-sessions-hosted-by-darrell-clanton-featuring-
 aubrey-wollett-and-bryton-stoll/
END:VEVENT
END:VCALENDAR