BEGIN:VCALENDAR
VERSION:2.0
CALSCALE:GREGORIAN
PRODID:-//WordPress//RSVPMaker//EN
METHOD:REQUEST
BEGIN:VEVENT
DTSTAMP:20260423T223129Z
UID:D6AE00D77468471C0FBA3A53A0273891@rsvpmaker.com
SEQUENCE:0
STATUS:CONFIRMED
DTSTART:20230812T213000Z
DTEND:20230812T223000Z
LOCATION:See\: https\://www.thehabitathouseconcerts.com/rsvpmaker/summ
 er-songwriters-sessions-wollett-and-stoll/
SUMMARY:Summer Songwriters Sessions Featuring Aubrey Wollett and Bryto
 n Stoll
DESCRIPTION:Event info\: https\://www.thehabitathouseconcerts.com/rsvp
 maker/summer-songwriters-sessions-wollett-and-stoll/
END:VEVENT
END:VCALENDAR