BEGIN:VCALENDAR
VERSION:2.0
CALSCALE:GREGORIAN
PRODID:-//WordPress//RSVPMaker//EN
METHOD:REQUEST
BEGIN:VEVENT
DTSTAMP:20260423T223200Z
UID:4C7A167BB329BD92580A99CE422D6FA6@rsvpmaker.com
SEQUENCE:0
STATUS:CONFIRMED
DTSTART:20230610T213000Z
DTEND:20230611T020000Z
LOCATION:See\: https\://www.thehabitathouseconcerts.com/rsvpmaker/sunn
 y-jim-and-lefty-lucy-at-the-habitat/
SUMMARY:Sunny Jim and Lefty Lucy at The Habitat
DESCRIPTION:Event info\: https\://www.thehabitathouseconcerts.com/rsvp
 maker/sunny-jim-and-lefty-lucy-at-the-habitat/
END:VEVENT
END:VCALENDAR