BEGIN:VCALENDAR
VERSION:2.0
CALSCALE:GREGORIAN
PRODID:-//WordPress//RSVPMaker//EN
METHOD:REQUEST
BEGIN:VEVENT
DTSTAMP:20260423T235949Z
UID:6074C6AA3488F3C2DDDFF2A7CA821AAB@rsvpmaker.com
SEQUENCE:0
STATUS:CONFIRMED
DTSTART:20220924T213000Z
DTEND:20220924T223000Z
LOCATION:See\: https\://www.thehabitathouseconcerts.com/rsvpmaker/the-
 sauce-boss-get-ready-for-gumbo-at-the-habitat/
SUMMARY:The Sauce Boss - Get Ready for Gumbo at The Habitat!
DESCRIPTION:Event info\: https\://www.thehabitathouseconcerts.com/rsvp
 maker/the-sauce-boss-get-ready-for-gumbo-at-the-habitat/
END:VEVENT
END:VCALENDAR