BEGIN:VCALENDAR
VERSION:2.0
CALSCALE:GREGORIAN
PRODID:-//WordPress//RSVPMaker//EN
METHOD:REQUEST
BEGIN:VEVENT
DTSTAMP:20260423T194858Z
UID:99CAD265A1768CC2DD013F0E740300AE@rsvpmaker.com
SEQUENCE:0
STATUS:CONFIRMED
DTSTART:20240831T213000Z
DTEND:20240831T223000Z
LOCATION:See\: https\://www.thehabitathouseconcerts.com/rsvpmaker/trav
 ers-and-signs-at-the-habitat-2024/
SUMMARY:Travers and Signs at The Habitat 2024
DESCRIPTION:Event info\: https\://www.thehabitathouseconcerts.com/rsvp
 maker/travers-and-signs-at-the-habitat-2024/
END:VEVENT
END:VCALENDAR