BEGIN:VCALENDAR
VERSION:2.0
CALSCALE:GREGORIAN
PRODID:-//WordPress//RSVPMaker//EN
METHOD:REQUEST
BEGIN:VEVENT
DTSTAMP:20260423T222939Z
UID:32508F53F24C46F685870A075EAAA29C@rsvpmaker.com
SEQUENCE:0
STATUS:CONFIRMED
DTSTART:20230826T213000Z
DTEND:20230826T223000Z
LOCATION:See\: https\://www.thehabitathouseconcerts.com/rsvpmaker/trev
 or-bystrom-at-the-habitat/
SUMMARY:Trevor Bystrom Trio at The Habitat!
DESCRIPTION:Event info\: https\://www.thehabitathouseconcerts.com/rsvp
 maker/trevor-bystrom-at-the-habitat/
END:VEVENT
END:VCALENDAR