BEGIN:VCALENDAR
VERSION:2.0
CALSCALE:GREGORIAN
PRODID:-//WordPress//RSVPMaker//EN
METHOD:REQUEST
BEGIN:VEVENT
DTSTAMP:20260424T040107Z
UID:1D98EDFD003BCD59E957739802965F19@rsvpmaker.com
SEQUENCE:0
STATUS:CONFIRMED
DTSTART:20210626T213000Z
DTEND:20210626T223000Z
LOCATION:See\: https\://www.thehabitathouseconcerts.com/rsvpmaker/trop
 icool-at-the-habitat/
SUMMARY:Tropicool at The Habitat
DESCRIPTION:Event info\: https\://www.thehabitathouseconcerts.com/rsvp
 maker/tropicool-at-the-habitat/
END:VEVENT
END:VCALENDAR