BEGIN:VCALENDAR
VERSION:2.0
CALSCALE:GREGORIAN
PRODID:-//WordPress//RSVPMaker//EN
METHOD:REQUEST
BEGIN:VEVENT
DTSTAMP:20260423T145557Z
UID:448D5EDA79895153938A8431919F4C9F@rsvpmaker.com
SEQUENCE:0
STATUS:CONFIRMED
DTSTART:20260221T223000Z
DTEND:20260222T033000Z
LOCATION:See\: https\://www.thehabitathouseconcerts.com/rsvpmaker/uncl
 e-jim-mayer/
SUMMARY:"Uncle" Jim Mayer
DESCRIPTION:Event info\: https\://www.thehabitathouseconcerts.com/rsvp
 maker/uncle-jim-mayer/
END:VEVENT
END:VCALENDAR