BEGIN:VCALENDAR
VERSION:2.0
CALSCALE:GREGORIAN
PRODID:-//WordPress//RSVPMaker//EN
METHOD:REQUEST
BEGIN:VEVENT
DTSTAMP:20260423T133557Z
UID:006C64491CB8ACF2092CE0E0341797FE@rsvpmaker.com
SEQUENCE:0
STATUS:CONFIRMED
DTSTART:20260509T213000Z
DTEND:20260509T223000Z
LOCATION:See\: https\://www.thehabitathouseconcerts.com/rsvpmaker/well
 ing-burns-fury-2026/
SUMMARY:Welling Burns Fury 2026
DESCRIPTION:Event info\: https\://www.thehabitathouseconcerts.com/rsvp
 maker/welling-burns-fury-2026/
END:VEVENT
END:VCALENDAR