BEGIN:VCALENDAR
VERSION:2.0
CALSCALE:GREGORIAN
PRODID:-//WordPress//RSVPMaker//EN
METHOD:REQUEST
BEGIN:VEVENT
DTSTAMP:20260423T170109Z
UID:488E4104520C6AAB692863CC1DBA45AF@rsvpmaker.com
SEQUENCE:0
STATUS:CONFIRMED
DTSTART:20250315T213000Z
DTEND:20250316T020000Z
LOCATION:See\: https\://www.thehabitathouseconcerts.com/rsvpmaker/well
 ing-fury-bostic/
SUMMARY:Welling/Fury/Bostic
DESCRIPTION:Event info\: https\://www.thehabitathouseconcerts.com/rsvp
 maker/welling-fury-bostic/
END:VEVENT
END:VCALENDAR