BEGIN:VCALENDAR
VERSION:2.0
CALSCALE:GREGORIAN
PRODID:-//WordPress//RSVPMaker//EN
METHOD:REQUEST
BEGIN:VEVENT
DTSTAMP:20260424T011352Z
UID:88BADE49E98DB8790DF275FCEBB37A13@rsvpmaker.com
SEQUENCE:0
STATUS:CONFIRMED
DTSTART:20220122T223000Z
DTEND:20220122T233000Z
LOCATION:See\: https\://www.thehabitathouseconcerts.com/rsvpmaker/wes-
 loper-at-the-habitat/
SUMMARY:Wes Loper at The Habitat
DESCRIPTION:Event info\: https\://www.thehabitathouseconcerts.com/rsvp
 maker/wes-loper-at-the-habitat/
END:VEVENT
END:VCALENDAR