BEGIN:VCALENDAR
VERSION:2.0
CALSCALE:GREGORIAN
PRODID:-//WordPress//RSVPMaker//EN
METHOD:REQUEST
BEGIN:VEVENT
DTSTAMP:20260423T211021Z
UID:DD5BFDEB57F7C75D400DE61E99D78E2E@rsvpmaker.com
SEQUENCE:0
STATUS:CONFIRMED
DTSTART:20231015T153000Z
DTEND:20231015T163000Z
LOCATION:See\: https\://www.thehabitathouseconcerts.com/rsvpmaker/whee
 land-brothers-at-the-habitat/
SUMMARY:Wheeland Brothers at The Habitat - SOLD OUT!
DESCRIPTION:Event info\: https\://www.thehabitathouseconcerts.com/rsvp
 maker/wheeland-brothers-at-the-habitat/
END:VEVENT
END:VCALENDAR