BEGIN:VCALENDAR
VERSION:2.0
CALSCALE:GREGORIAN
PRODID:-//WordPress//RSVPMaker//EN
METHOD:REQUEST
BEGIN:VEVENT
DTSTAMP:20260423T194719Z
UID:02F063C236C7EEF66324B432B748D15D@rsvpmaker.com
SEQUENCE:0
STATUS:CONFIRMED
DTSTART:20240427T170000Z
DTEND:20240427T180000Z
LOCATION:See\: https\://www.thehabitathouseconcerts.com/rsvpmaker/whee
 land-brothers-return-to-the-habitat/
SUMMARY:Wheeland Brothers Return to The Habitat
DESCRIPTION:Event info\: https\://www.thehabitathouseconcerts.com/rsvp
 maker/wheeland-brothers-return-to-the-habitat/
END:VEVENT
END:VCALENDAR