BEGIN:VCALENDAR
VERSION:2.0
CALSCALE:GREGORIAN
PRODID:-//WordPress//RSVPMaker//EN
METHOD:REQUEST
BEGIN:VEVENT
DTSTAMP:20260423T145046Z
UID:CF0D02EC99E61A64137B8A2C3B03E030@rsvpmaker.com
SEQUENCE:0
STATUS:CONFIRMED
DTSTART:20260524T020000Z
DTEND:20260524T030000Z
LOCATION:See\: https\://www.thehabitathouseconcerts.com/rsvpmaker/will
 -kimbrough-2026/
SUMMARY:Will Kimbrough 2026
DESCRIPTION:Event info\: https\://www.thehabitathouseconcerts.com/rsvp
 maker/will-kimbrough-2026/
END:VEVENT
END:VCALENDAR